{"text_format":"1","workbook":"xlsx","n_sheets":4,"sheets":["Long Course","Short Course","TempLC","TempSC"],"not_rendered":{"charts":0,"images":0,"macros":0,"external_links":1,"defined_names":5,"comments":0,"pivot_tables":0},"unopened":[],"bounds":{"document_bytes":16777216,"sheet_cells":100000,"rows_first":2000,"rows_last":500,"rows_between":2000,"halvings":0,"cell_chars":16384,"cell_head_chars":4096},"cells_cut":0,"cells_raw":0,"read":"whole","date_system":"1900"}

{"sheet":"Long Course","index":0,"n_rows":90,"n_cols":13,"rows_kept":90,"cut":false,"hidden":false,"merged":[[0,0,0,9],[1,0,1,9],[2,0,2,9],[3,0,3,9]]}
["Bendigo Triathlon Club"]
["Villawood Summer Series 2011-12"]
["Long Course Aggregate Points"]
["Best 6 results are used for the final tally"]
["Name","Mem No","Sep","Oct","Nov","Dec","Jan","Feb","Mar","Total","Count","Points to drop","Final Points"]
["Ian Frost",240,15,12,20,11,16,18,3,{"$f":"SUM(C6:I6)","v":95},{"$f":"COUNT(C6:I6)","v":7},{"$f":"IF(K6=7,MIN(C6:I6),\"\")","v":3},{"$f":"J6-L6","v":92}]
["Reagan Stroud",259,16,9,17,16,11,null,8,{"$f":"SUM(C7:I7)","v":77},{"$f":"COUNT(C7:I7)","v":6},{"$f":"IF(K7=7,MIN(C7:I7),\"0\")","v":"0"},{"$f":"J7-L7","v":77}]
["Georgina Lanyon",241,18,null,19,null,13,15,11,{"$f":"SUM(C8:I8)","v":76},{"$f":"COUNT(C8:I8)","v":5},{"$f":"IF(K8=7,MIN(C8:I8),\"0\")","v":"0"},{"$f":"J8-L8","v":76}]
["Megan Goode",157,null,11,18,null,8,19,6,{"$f":"SUM(C9:I9)","v":62},{"$f":"COUNT(C9:I9)","v":5},{"$f":"IF(K9=7,MIN(C9:I9),\"0\")","v":"0"},{"$f":"J9-L9","v":62}]
["Tony Vlaeminck",99,null,13,16,null,null,20,10,{"$f":"SUM(C10:I10)","v":59},{"$f":"COUNT(C10:I10)","v":4},{"$f":"IF(K10=7,MIN(C10:I10),\"0\")","v":"0"},{"$f":"J10-L10","v":59}]
["Jayson Burhop",78,12,null,null,6,12,10,17,{"$f":"SUM(C11:I11)","v":57},{"$f":"COUNT(C11:I11)","v":5},{"$f":"IF(K11=7,MIN(C11:I11),\"0\")","v":"0"},{"$f":"J11-L11","v":57}]
["Russell Weekley",50,1,10,null,19,15,null,12,{"$f":"SUM(C12:I12)","v":57},{"$f":"COUNT(C12:I12)","v":5},{"$f":"IF(K12=7,MIN(C12:I12),\"0\")","v":"0"},{"$f":"J12-L12","v":57}]
["Alison Cartner",14,8,15,12,14,3,3,1,{"$f":"SUM(C13:I13)","v":56},{"$f":"COUNT(C13:I13)","v":7},{"$f":"IF(K13=7,MIN(C13:I13),\"0\")","v":1},{"$f":"J13-L13","v":55}]
["Fraser Walsh",79,11,18,null,null,7,13,1,{"$f":"SUM(C14:I14)","v":50},{"$f":"COUNT(C14:I14)","v":5},{"$f":"IF(K14=7,MIN(C14:I14),\"0\")","v":"0"},{"$f":"J14-L14","v":50}]
["Liz Foster",67,null,16,9,null,20,null,1,{"$f":"SUM(C15:I15)","v":46},{"$f":"COUNT(C15:I15)","v":4},{"$f":"IF(K15=7,MIN(C15:I15),\"0\")","v":"0"},{"$f":"J15-L15","v":46}]
["Damian Hughes",245,10,17,null,17,null,null,1,{"$f":"SUM(C16:I16)","v":45},{"$f":"COUNT(C16:I16)","v":4},{"$f":"IF(K16=7,MIN(C16:I16),\"0\")","v":"0"},{"$f":"J16-L16","v":45}]
["Kylie Howlett",176,1,19,1,5,18,null,null,{"$f":"SUM(C17:I17)","v":44},{"$f":"COUNT(C17:I17)","v":5},{"$f":"IF(K17=7,MIN(C17:I17),\"0\")","v":"0"},{"$f":"J17-L17","v":44}]
["Bronwyn Morris",47,null,8,11,7,5,7,5,{"$f":"SUM(C18:I18)","v":43},{"$f":"COUNT(C18:I18)","v":6},{"$f":"IF(K18=7,MIN(C18:I18),\"0\")","v":"0"},{"$f":"J18-L18","v":43}]
["Michael Hogan",204,9,null,null,15,17,null,2,{"$f":"SUM(C19:I19)","v":43},{"$f":"COUNT(C19:I19)","v":4},{"$f":"IF(K19=7,MIN(C19:I19),\"0\")","v":"0"},{"$f":"J19-L19","v":43}]
["Ben Fahy",238,null,null,null,13,null,9,18,{"$f":"SUM(C20:I20)","v":40},{"$f":"COUNT(C20:I20)","v":3},{"$f":"IF(K20=7,MIN(C20:I20),\"0\")","v":"0"},{"$f":"J20-L20","v":40}]
["Kevin Walsh",94,19,null,13,null,4,null,null,{"$f":"SUM(C21:I21)","v":36},{"$f":"COUNT(C21:I21)","v":3},{"$f":"IF(K21=7,MIN(C21:I21),\"0\")","v":"0"},{"$f":"J21-L21","v":36}]
["Todd Foster",66,null,null,null,18,2,null,15,{"$f":"SUM(C22:I22)","v":35},{"$f":"COUNT(C22:I22)","v":3},{"$f":"IF(K22=7,MIN(C22:I22),\"0\")","v":"0"},{"$f":"J22-L22","v":35}]
["Karl Lanyon",243,null,null,null,null,19,16,null,{"$f":"SUM(C23:I23)","v":35},{"$f":"COUNT(C23:I23)","v":2},{"$f":"IF(K23=7,MIN(C23:I23),\"0\")","v":"0"},{"$f":"J23-L23","v":35}]
["Jarrod Draper",234,20,14,null,null,null,null,null,{"$f":"SUM(C24:I24)","v":34},{"$f":"COUNT(C24:I24)","v":2},{"$f":"IF(K24=7,MIN(C24:I24),\"0\")","v":"0"},{"$f":"J24-L24","v":34}]
["Jarrod Epps",51,13,null,15,null,null,null,4,{"$f":"SUM(C25:I25)","v":32},{"$f":"COUNT(C25:I25)","v":3},{"$f":"IF(K25=7,MIN(C25:I25),\"0\")","v":"0"},{"$f":"J25-L25","v":32}]
["Geoffrey Graham",56,null,null,null,null,14,17,1,{"$f":"SUM(C26:I26)","v":32},{"$f":"COUNT(C26:I26)","v":3},{"$f":"IF(K26=7,MIN(C26:I26),\"0\")","v":"0"},{"$f":"J26-L26","v":32}]
["Steve Monigatti",184,6,null,14,10,1,null,1,{"$f":"SUM(C27:I27)","v":32},{"$f":"COUNT(C27:I27)","v":5},{"$f":"IF(K27=7,MIN(C27:I27),\"0\")","v":"0"},{"$f":"J27-L27","v":32}]
["Bryce Fitzpatrick",71,null,20,null,null,10,null,null,{"$f":"SUM(C28:I28)","v":30},{"$f":"COUNT(C28:I28)","v":2},{"$f":"IF(K28=7,MIN(C28:I28),\"0\")","v":"0"},{"$f":"J28-L28","v":30}]
["Kim Townrow",127,null,null,7,9,null,null,13,{"$f":"SUM(C29:I29)","v":29},{"$f":"COUNT(C29:I29)","v":3},{"$f":"IF(K29=7,MIN(C29:I29),\"0\")","v":"0"},{"$f":"J29-L29","v":29}]
["Tim Lovell",212,null,null,null,20,null,1,7,{"$f":"SUM(C30:I30)","v":28},{"$f":"COUNT(C30:I30)","v":3},{"$f":"IF(K30=7,MIN(C30:I30),\"0\")","v":"0"},{"$f":"J30-L30","v":28}]
["Gavin Fiedler",1,4,7,2,8,6,1,null,{"$f":"SUM(C31:I31)","v":28},{"$f":"COUNT(C31:I31)","v":6},{"$f":"IF(K31=7,MIN(C31:I31),\"0\")","v":"0"},{"$f":"J31-L31","v":28}]
["Melissa Wade",148,1,6,8,12,null,null,null,{"$f":"SUM(C32:I32)","v":27},{"$f":"COUNT(C32:I32)","v":4},{"$f":"IF(K32=7,MIN(C32:I32),\"0\")","v":"0"},{"$f":"J32-L32","v":27}]
["Nick Gillingham",156,null,null,null,null,1,null,20,{"$f":"SUM(C33:I33)","v":21},{"$f":"COUNT(C33:I33)","v":2},{"$f":"IF(K33=7,MIN(C33:I33),\"0\")","v":"0"},{"$f":"J33-L33","v":21}]
["Russell Tremayne",45,null,null,null,null,null,12,9,{"$f":"SUM(C34:I34)","v":21},{"$f":"COUNT(C34:I34)","v":2},{"$f":"IF(K34=7,MIN(C34:I34),\"0\")","v":"0"},{"$f":"J34-L34","v":21}]
["Jac Tremayne",52,null,null,null,null,null,null,19,{"$f":"SUM(C35:I35)","v":19},{"$f":"COUNT(C35:I35)","v":1},{"$f":"IF(K35=7,MIN(C35:I35),\"0\")","v":"0"},{"$f":"J35-L35","v":19}]
["Nicholas Tripodi",117,null,null,null,null,1,1,16,{"$f":"SUM(C36:I36)","v":18},{"$f":"COUNT(C36:I36)","v":3},{"$f":"IF(K36=7,MIN(C36:I36),\"0\")","v":"0"},{"$f":"J36-L36","v":18}]
["Rick Jackel",12,17,null,null,1,null,null,null,{"$f":"SUM(C37:I37)","v":18},{"$f":"COUNT(C37:I37)","v":2},{"$f":"IF(K37=7,MIN(C37:I37),\"0\")","v":"0"},{"$f":"J37-L37","v":18}]
["Kristen Healy",35,null,null,null,1,1,14,1,{"$f":"SUM(C38:I38)","v":17},{"$f":"COUNT(C38:I38)","v":4},{"$f":"IF(K38=7,MIN(C38:I38),\"0\")","v":"0"},{"$f":"J38-L38","v":17}]
["Brad Hinton",216,null,null,null,null,null,null,14,{"$f":"SUM(C39:I39)","v":14},{"$f":"COUNT(C39:I39)","v":1},{"$f":"IF(K39=7,MIN(C39:I39),\"0\")","v":"0"},{"$f":"J39-L39","v":14}]
["Todd Cody",89,14,null,null,null,null,null,null,{"$f":"SUM(C40:I40)","v":14},{"$f":"COUNT(C40:I40)","v":1},{"$f":"IF(K40=7,MIN(C40:I40),\"0\")","v":"0"},{"$f":"J40-L40","v":14}]
["Therese Martin",16,1,4,4,1,1,1,1,{"$f":"SUM(C41:I41)","v":13},{"$f":"COUNT(C41:I41)","v":7},{"$f":"IF(K41=7,MIN(C41:I41),\"0\")","v":1},{"$f":"J41-L41","v":12}]
["Jason Hawke",173,null,null,1,1,9,null,1,{"$f":"SUM(C42:I42)","v":12},{"$f":"COUNT(C42:I42)","v":4},{"$f":"IF(K42=7,MIN(C42:I42),\"0\")","v":"0"},{"$f":"J42-L42","v":12}]
["Roy Preece",141,2,5,5,null,null,null,null,{"$f":"SUM(C43:I43)","v":12},{"$f":"COUNT(C43:I43)","v":3},{"$f":"IF(K43=7,MIN(C43:I43),\"0\")","v":"0"},{"$f":"J43-L43","v":12}]
["Donna MacCallum",29,null,1,null,null,null,11,null,{"$f":"SUM(C44:I44)","v":12},{"$f":"COUNT(C44:I44)","v":2},{"$f":"IF(K44=7,MIN(C44:I44),\"0\")","v":"0"},{"$f":"J44-L44","v":12}]
["Anthony Mellors",75,3,null,1,3,1,2,1,{"$f":"SUM(C45:I45)","v":11},{"$f":"COUNT(C45:I45)","v":6},{"$f":"IF(K45=7,MIN(C45:I45),\"0\")","v":"0"},{"$f":"J45-L45","v":11}]
["Sally Murray",96,null,1,10,null,null,null,null,{"$f":"SUM(C46:I46)","v":11},{"$f":"COUNT(C46:I46)","v":2},{"$f":"IF(K46=7,MIN(C46:I46),\"0\")","v":"0"},{"$f":"J46-L46","v":11}]
["Andrew Wilkie",32,null,null,null,null,1,8,1,{"$f":"SUM(C47:I47)","v":10},{"$f":"COUNT(C47:I47)","v":3},{"$f":"IF(K47=7,MIN(C47:I47),\"0\")","v":"0"},{"$f":"J47-L47","v":10}]
["David Hatswell",43,1,null,null,null,1,6,null,{"$f":"SUM(C48:I48)","v":8},{"$f":"COUNT(C48:I48)","v":3},{"$f":"IF(K48=7,MIN(C48:I48),\"0\")","v":"0"},{"$f":"J48-L48","v":8}]
["Jane Dooley",103,null,1,6,1,null,null,null,{"$f":"SUM(C49:I49)","v":8},{"$f":"COUNT(C49:I49)","v":3},{"$f":"IF(K49=7,MIN(C49:I49),\"0\")","v":"0"},{"$f":"J49-L49","v":8}]
["Darryn Ellis",62,null,3,3,null,null,1,null,{"$f":"SUM(C50:I50)","v":7},{"$f":"COUNT(C50:I50)","v":3},{"$f":"IF(K50=7,MIN(C50:I50),\"0\")","v":"0"},{"$f":"J50-L50","v":7}]
["Jordan Adams",166,7,null,null,null,null,null,null,{"$f":"SUM(C51:I51)","v":7},{"$f":"COUNT(C51:I51)","v":1},{"$f":"IF(K51=7,MIN(C51:I51),\"0\")","v":"0"},{"$f":"J51-L51","v":7}]
["Damien Bilsborow",54,null,null,null,null,1,5,null,{"$f":"SUM(C52:I52)","v":6},{"$f":"COUNT(C52:I52)","v":2},{"$f":"IF(K52=7,MIN(C52:I52),\"0\")","v":"0"},{"$f":"J52-L52","v":6}]
["Peter Hunt",11,null,1,1,4,null,null,null,{"$f":"SUM(C53:I53)","v":6},{"$f":"COUNT(C53:I53)","v":3},{"$f":"IF(K53=7,MIN(C53:I53),\"0\")","v":"0"},{"$f":"J53-L53","v":6}]
["Thomas Kelly",156,5,null,null,null,null,null,null,{"$f":"SUM(C54:I54)","v":5},{"$f":"COUNT(C54:I54)","v":1},{"$f":"IF(K54=7,MIN(C54:I54),\"0\")","v":"0"},{"$f":"J54-L54","v":5}]
["Jarrod Brown",250,null,null,null,null,null,4,1,{"$f":"SUM(C55:I55)","v":5},{"$f":"COUNT(C55:I55)","v":2},{"$f":"IF(K55=7,MIN(C55:I55),\"0\")","v":"0"},{"$f":"J55-L55","v":5}]
["Nick Walsh",15,1,2,null,null,1,null,1,{"$f":"SUM(C56:I56)","v":5},{"$f":"COUNT(C56:I56)","v":4},{"$f":"IF(K56=7,MIN(C56:I56),\"0\")","v":"0"},{"$f":"J56-L56","v":5}]
["Andrew Meyers",101,null,null,null,2,null,1,1,{"$f":"SUM(C57:I57)","v":4},{"$f":"COUNT(C57:I57)","v":3},{"$f":"IF(K57=7,MIN(C57:I57),\"0\")","v":"0"},{"$f":"J57-L57","v":4}]
["Ian Gilmore",114,null,1,null,1,1,null,1,{"$f":"SUM(C58:I58)","v":4},{"$f":"COUNT(C58:I58)","v":4},{"$f":"IF(K58=7,MIN(C58:I58),\"0\")","v":"0"},{"$f":"J58-L58","v":4}]
["Eamon Smith",211,null,1,1,null,null,1,null,{"$f":"SUM(C59:I59)","v":3},{"$f":"COUNT(C59:I59)","v":3},{"$f":"IF(K59=7,MIN(C59:I59),\"0\")","v":"0"},{"$f":"J59-L59","v":3}]
["David Griffiths",119,null,null,null,1,null,1,1,{"$f":"SUM(C60:I60)","v":3},{"$f":"COUNT(C60:I60)","v":3},{"$f":"IF(K60=7,MIN(C60:I60),\"0\")","v":"0"},{"$f":"J60-L60","v":3}]
["Katrina Griffiths",121,null,null,null,1,null,1,1,{"$f":"SUM(C61:I61)","v":3},{"$f":"COUNT(C61:I61)","v":3},{"$f":"IF(K61=7,MIN(C61:I61),\"0\")","v":"0"},{"$f":"J61-L61","v":3}]
["Scott Baxter",48,1,null,null,null,1,1,null,{"$f":"SUM(C62:I62)","v":3},{"$f":"COUNT(C62:I62)","v":3},{"$f":"IF(K62=7,MIN(C62:I62),\"0\")","v":"0"},{"$f":"J62-L62","v":3}]
["Sally Fleming",152,1,1,null,1,null,null,null,{"$f":"SUM(C63:I63)","v":3},{"$f":"COUNT(C63:I63)","v":3},{"$f":"IF(K63=7,MIN(C63:I63),\"0\")","v":"0"},{"$f":"J63-L63","v":3}]
["Andrew Mason",249,null,null,null,null,null,1,1,{"$f":"SUM(C64:I64)","v":2},{"$f":"COUNT(C64:I64)","v":2},{"$f":"IF(K64=7,MIN(C64:I64),\"0\")","v":"0"},{"$f":"J64-L64","v":2}]
["Matt Smith",26,null,null,null,null,null,1,1,{"$f":"SUM(C65:I65)","v":2},{"$f":"COUNT(C65:I65)","v":2},{"$f":"IF(K65=7,MIN(C65:I65),\"0\")","v":"0"},{"$f":"J65-L65","v":2}]
["Simone Byrne",113,null,null,null,null,null,1,1,{"$f":"SUM(C66:I66)","v":2},{"$f":"COUNT(C66:I66)","v":2},{"$f":"IF(K66=7,MIN(C66:I66),\"0\")","v":"0"},{"$f":"J66-L66","v":2}]
["Evan Barr",126,null,null,null,1,null,null,1,{"$f":"SUM(C67:I67)","v":2},{"$f":"COUNT(C67:I67)","v":2},{"$f":"IF(K67=7,MIN(C67:I67),\"0\")","v":"0"},{"$f":"J67-L67","v":2}]
["Paul Pumpa",74,null,null,1,1,null,null,null,{"$f":"SUM(C68:I68)","v":2},{"$f":"COUNT(C68:I68)","v":2},{"$f":"IF(K68=7,MIN(C68:I68),\"0\")","v":"0"},{"$f":"J68-L68","v":2}]
["Liam Frye",193,1,null,null,null,1,null,null,{"$f":"SUM(C69:I69)","v":2},{"$f":"COUNT(C69:I69)","v":2},{"$f":"IF(K69=7,MIN(C69:I69),\"0\")","v":"0"},{"$f":"J69-L69","v":2}]
["Shai O'Brien",102,null,null,null,1,1,null,null,{"$f":"SUM(C70:I70)","v":2},{"$f":"COUNT(C70:I70)","v":2},{"$f":"IF(K70=7,MIN(C70:I70),\"0\")","v":"0"},{"$f":"J70-L70","v":2}]
["Mark Lees",196,null,null,null,null,null,null,1,{"$f":"SUM(C71:I71)","v":1},{"$f":"COUNT(C71:I71)","v":1},{"$f":"IF(K71=7,MIN(C71:I71),\"0\")","v":"0"},{"$f":"J71-L71","v":1}]
["Josh Ketterer",294,null,null,null,null,null,null,1,{"$f":"SUM(C72:I72)","v":1},{"$f":"COUNT(C72:I72)","v":1},{"$f":"IF(K72=7,MIN(C72:I72),\"0\")","v":"0"},{"$f":"J72-L72","v":1}]
["Jason Smith",95,null,null,null,null,null,null,1,{"$f":"SUM(C73:I73)","v":1},{"$f":"COUNT(C73:I73)","v":1},{"$f":"IF(K73=7,MIN(C73:I73),\"0\")","v":"0"},{"$f":"J73-L73","v":1}]
["Johnny Maher",138,null,null,null,null,null,1,null,{"$f":"SUM(C74:I74)","v":1},{"$f":"COUNT(C74:I74)","v":1},{"$f":"IF(K74=7,MIN(C74:I74),\"0\")","v":"0"},{"$f":"J74-L74","v":1}]
["Harry Terry",206,null,null,null,null,null,1,null,{"$f":"SUM(C75:I75)","v":1},{"$f":"COUNT(C75:I75)","v":1},{"$f":"IF(K75=7,MIN(C75:I75),\"0\")","v":"0"},{"$f":"J75-L75","v":1}]
["Eric Hocking",90,1,null,null,null,null,null,null,{"$f":"SUM(C76:I76)","v":1},{"$f":"COUNT(C76:I76)","v":1},{"$f":"IF(K76=7,MIN(C76:I76),\"0\")","v":"0"},{"$f":"J76-L76","v":1}]
["Leon Griffin",24,1,null,null,null,null,null,null,{"$f":"SUM(C77:I77)","v":1},{"$f":"COUNT(C77:I77)","v":1},{"$f":"IF(K77=7,MIN(C77:I77),\"0\")","v":"0"},{"$f":"J77-L77","v":1}]
["Melissa Chiappazzo",125,1,null,null,null,null,null,null,{"$f":"SUM(C78:I78)","v":1},{"$f":"COUNT(C78:I78)","v":1},{"$f":"IF(K78=7,MIN(C78:I78),\"0\")","v":"0"},{"$f":"J78-L78","v":1}]
["Amelia Mitchell",230,1,null,null,null,null,null,null,{"$f":"SUM(C79:I79)","v":1},{"$f":"COUNT(C79:I79)","v":1},{"$f":"IF(K79=7,MIN(C79:I79),\"0\")","v":"0"},{"$f":"J79-L79","v":1}]
["Lanika Hermans",265,null,1,null,null,null,null,null,{"$f":"SUM(C80:I80)","v":1},{"$f":"COUNT(C80:I80)","v":1},{"$f":"IF(K80=7,MIN(C80:I80),\"0\")","v":"0"},{"$f":"J80-L80","v":1}]
["Duncan Reid",232,null,1,null,null,null,null,null,{"$f":"SUM(C81:I81)","v":1},{"$f":"COUNT(C81:I81)","v":1},{"$f":"IF(K81=7,MIN(C81:I81),\"0\")","v":"0"},{"$f":"J81-L81","v":1}]
["Maree Reid",231,null,1,null,null,null,null,null,{"$f":"SUM(C82:I82)","v":1},{"$f":"COUNT(C82:I82)","v":1},{"$f":"IF(K82=7,MIN(C82:I82),\"0\")","v":"0"},{"$f":"J82-L82","v":1}]
["Ross Chiappazzo",124,null,null,1,null,null,null,null,{"$f":"SUM(C83:I83)","v":1},{"$f":"COUNT(C83:I83)","v":1},{"$f":"IF(K83=7,MIN(C83:I83),\"0\")","v":"0"},{"$f":"J83-L83","v":1}]
["Aaron Long",293,null,null,1,null,null,null,null,{"$f":"SUM(C84:I84)","v":1},{"$f":"COUNT(C84:I84)","v":1},{"$f":"IF(K84=7,MIN(C84:I84),\"0\")","v":"0"},{"$f":"J84-L84","v":1}]
["Bethany Wolfe",61,null,null,1,null,null,null,null,{"$f":"SUM(C85:I85)","v":1},{"$f":"COUNT(C85:I85)","v":1},{"$f":"IF(K85=7,MIN(C85:I85),\"0\")","v":"0"},{"$f":"J85-L85","v":1}]
["Josh Phegan",25,null,null,1,null,null,null,null,{"$f":"SUM(C86:I86)","v":1},{"$f":"COUNT(C86:I86)","v":1},{"$f":"IF(K86=7,MIN(C86:I86),\"0\")","v":"0"},{"$f":"J86-L86","v":1}]
["Kim Fairbairn-Baker",269,null,null,1,null,null,null,null,{"$f":"SUM(C87:I87)","v":1},{"$f":"COUNT(C87:I87)","v":1},{"$f":"IF(K87=7,MIN(C87:I87),\"0\")","v":"0"},{"$f":"J87-L87","v":1}]
["Helen Lees",195,null,null,null,1,null,null,null,{"$f":"SUM(C88:I88)","v":1},{"$f":"COUNT(C88:I88)","v":1},{"$f":"IF(K88=7,MIN(C88:I88),\"0\")","v":"0"},{"$f":"J88-L88","v":1}]
["Ryan Peacock",92,null,null,null,1,null,null,null,{"$f":"SUM(C89:I89)","v":1},{"$f":"COUNT(C89:I89)","v":1},{"$f":"IF(K89=7,MIN(C89:I89),\"0\")","v":"0"},{"$f":"J89-L89","v":1}]
["Carol Sing",23,null,null,null,null,1,null,null,{"$f":"SUM(C90:I90)","v":1},{"$f":"COUNT(C90:I90)","v":1},{"$f":"IF(K90=7,MIN(C90:I90),\"0\")","v":"0"},{"$f":"J90-L90","v":1}]

{"sheet":"Short Course","index":1,"n_rows":79,"n_cols":13,"rows_kept":79,"cut":false,"hidden":false,"merged":[[0,0,0,9],[1,0,1,9],[2,0,2,9],[3,0,3,9]]}
["Bendigo Triathlon Club"]
["Villawood Summer Series 2011-12"]
["Short Course Aggregate Points"]
["Best 6 results are used for the final tally"]
[" Name","Mem No","Sep","Oct","Nov","Dec","Jan","Feb","Mar","Total","Count","Points to drop","Final Points"]
["Nathan Green",239,19,13,18,null,20,15,15,{"$f":"SUM(C6:I6)","v":100},{"$f":"COUNT(C6:I6)","v":6},{"$f":"IF(K6=7,MIN(C6:I6),\"0\")","v":"0"},{"$f":"J6-L6","v":100}]
["Matthew Heislers",260,16,1,17,9,null,20,12,{"$f":"SUM(C7:I7)","v":75},{"$f":"COUNT(C7:I7)","v":6},{"$f":"IF(K7=7,MIN(C7:I7),\"0\")","v":"0"},{"$f":"J7-L7","v":75}]
["Alexander Evans",136,1,4,11,14,19,13,1,{"$f":"SUM(C8:I8)","v":63},{"$f":"COUNT(C8:I8)","v":7},{"$f":"IF(K8=7,MIN(C8:I8),\"0\")","v":1},{"$f":"J8-L8","v":62}]
["Laura Terry",131,14,16,12,null,null,9,8,{"$f":"SUM(C9:I9)","v":59},{"$f":"COUNT(C9:I9)","v":5},{"$f":"IF(K9=7,MIN(C9:I9),\"0\")","v":"0"},{"$f":"J9-L9","v":59}]
["David Heislers",261,1,18,6,1,null,14,17,{"$f":"SUM(C10:I10)","v":57},{"$f":"COUNT(C10:I10)","v":6},{"$f":"IF(K10=7,MIN(C10:I10),\"0\")","v":"0"},{"$f":"J10-L10","v":57}]
["Karl Lanyon",243,11,15,15,15,null,null,null,{"$f":"SUM(C11:I11)","v":56},{"$f":"COUNT(C11:I11)","v":4},{"$f":"IF(K11=7,MIN(C11:I11),\"0\")","v":"0"},{"$f":"J11-L11","v":56}]
["Sharon Baker",149,1,null,7,1,18,19,5,{"$f":"SUM(C12:I12)","v":51},{"$f":"COUNT(C12:I12)","v":6},{"$f":"IF(K12=7,MIN(C12:I12),\"0\")","v":"0"},{"$f":"J12-L12","v":51}]
["Samantha Borserio",191,1,9,1,6,17,null,14,{"$f":"SUM(C13:I13)","v":48},{"$f":"COUNT(C13:I13)","v":6},{"$f":"IF(K13=7,MIN(C13:I13),\"0\")","v":"0"},{"$f":"J13-L13","v":48}]
["Damien Bilsborow",54,1,14,14,16,null,null,3,{"$f":"SUM(C14:I14)","v":48},{"$f":"COUNT(C14:I14)","v":5},{"$f":"IF(K14=7,MIN(C14:I14),\"0\")","v":"0"},{"$f":"J14-L14","v":48}]
["Chris Richardson",266,null,null,1,10,7,16,11,{"$f":"SUM(C15:I15)","v":45},{"$f":"COUNT(C15:I15)","v":5},{"$f":"IF(K15=7,MIN(C15:I15),\"0\")","v":"0"},{"$f":"J15-L15","v":45}]
["Lucas Casey",160,10,11,3,null,6,12,2,{"$f":"SUM(C16:I16)","v":44},{"$f":"COUNT(C16:I16)","v":6},{"$f":"IF(K16=7,MIN(C16:I16),\"0\")","v":"0"},{"$f":"J16-L16","v":44}]
["Susie Hawke",169,1,17,10,1,14,null,null,{"$f":"SUM(C17:I17)","v":43},{"$f":"COUNT(C17:I17)","v":5},{"$f":"IF(K17=7,MIN(C17:I17),\"0\")","v":"0"},{"$f":"J17-L17","v":43}]
["Holly Hawke",175,null,1,8,1,12,null,19,{"$f":"SUM(C18:I18)","v":41},{"$f":"COUNT(C18:I18)","v":5},{"$f":"IF(K18=7,MIN(C18:I18),\"0\")","v":"0"},{"$f":"J18-L18","v":41}]
["Chris Gray",268,null,null,1,1,15,18,6,{"$f":"SUM(C19:I19)","v":41},{"$f":"COUNT(C19:I19)","v":5},{"$f":"IF(K19=7,MIN(C19:I19),\"0\")","v":"0"},{"$f":"J19-L19","v":41}]
["Adrian Ryan",57,9,7,null,1,16,7,1,{"$f":"SUM(C20:I20)","v":41},{"$f":"COUNT(C20:I20)","v":6},{"$f":"IF(K20=7,MIN(C20:I20),\"0\")","v":"0"},{"$f":"J20-L20","v":41}]
["Nicholas Cherry",257,null,3,1,5,8,11,9,{"$f":"SUM(C21:I21)","v":37},{"$f":"COUNT(C21:I21)","v":6},{"$f":"IF(K21=7,MIN(C21:I21),\"0\")","v":"0"},{"$f":"J21-L21","v":37}]
["Chris Chiappazzo",123,17,null,null,1,null,null,18,{"$f":"SUM(C22:I22)","v":36},{"$f":"COUNT(C22:I22)","v":3},{"$f":"IF(K22=7,MIN(C22:I22),\"0\")","v":"0"},{"$f":"J22-L22","v":36}]
["Greg Payne",17,null,1,5,12,null,3,13,{"$f":"SUM(C23:I23)","v":34},{"$f":"COUNT(C23:I23)","v":5},{"$f":"IF(K23=7,MIN(C23:I23),\"0\")","v":"0"},{"$f":"J23-L23","v":34}]
["Harry Terry",206,15,6,null,13,null,null,null,{"$f":"SUM(C24:I24)","v":34},{"$f":"COUNT(C24:I24)","v":3},{"$f":"IF(K24=7,MIN(C24:I24),\"0\")","v":"0"},{"$f":"J24-L24","v":34}]
["Luke Crameri",270,null,null,1,19,11,1,null,{"$f":"SUM(C25:I25)","v":32},{"$f":"COUNT(C25:I25)","v":4},{"$f":"IF(K25=7,MIN(C25:I25),\"0\")","v":"0"},{"$f":"J25-L25","v":32}]
["Andrew Wilkie",32,1,null,19,11,null,null,null,{"$f":"SUM(C26:I26)","v":31},{"$f":"COUNT(C26:I26)","v":3},{"$f":"IF(K26=7,MIN(C26:I26),\"0\")","v":"0"},{"$f":"J26-L26","v":31}]
["Kane Watts",80,null,1,1,18,10,null,null,{"$f":"SUM(C27:I27)","v":30},{"$f":"COUNT(C27:I27)","v":4},{"$f":"IF(K27=7,MIN(C27:I27),\"0\")","v":"0"},{"$f":"J27-L27","v":30}]
["Lachlan Cherry",258,18,1,1,7,1,1,1,{"$f":"SUM(C28:I28)","v":30},{"$f":"COUNT(C28:I28)","v":7},{"$f":"IF(K28=7,MIN(C28:I28),\"0\")","v":1},{"$f":"J28-L28","v":29}]
["Riley Walsh",263,null,20,null,1,1,2,4,{"$f":"SUM(C29:I29)","v":28},{"$f":"COUNT(C29:I29)","v":5},{"$f":"IF(K29=7,MIN(C29:I29),\"0\")","v":"0"},{"$f":"J29-L29","v":28}]
["Kyle Gellatly",264,null,19,1,2,null,5,1,{"$f":"SUM(C30:I30)","v":28},{"$f":"COUNT(C30:I30)","v":5},{"$f":"IF(K30=7,MIN(C30:I30),\"0\")","v":"0"},{"$f":"J30-L30","v":28}]
["Andrew Meyers",101,12,null,16,null,null,null,null,{"$f":"SUM(C31:I31)","v":28},{"$f":"COUNT(C31:I31)","v":2},{"$f":"IF(K31=7,MIN(C31:I31),\"0\")","v":"0"},{"$f":"J31-L31","v":28}]
["Madelaine Hawke",174,null,1,1,1,1,null,20,{"$f":"SUM(C32:I32)","v":24},{"$f":"COUNT(C32:I32)","v":5},{"$f":"IF(K32=7,MIN(C32:I32),\"0\")","v":"0"},{"$f":"J32-L32","v":24}]
["Adam Graham",76,8,12,null,1,null,null,1,{"$f":"SUM(C33:I33)","v":22},{"$f":"COUNT(C33:I33)","v":4},{"$f":"IF(K33=7,MIN(C33:I33),\"0\")","v":"0"},{"$f":"J33-L33","v":22}]
["Mark Lees",196,null,1,null,20,null,null,null,{"$f":"SUM(C34:I34)","v":21},{"$f":"COUNT(C34:I34)","v":2},{"$f":"IF(K34=7,MIN(C34:I34),\"0\")","v":"0"},{"$f":"J34-L34","v":21}]
["Janine Andrews",83,20,null,null,null,null,null,null,{"$f":"SUM(C35:I35)","v":20},{"$f":"COUNT(C35:I35)","v":1},{"$f":"IF(K35=7,MIN(C35:I35),\"0\")","v":"0"},{"$f":"J35-L35","v":20}]
["Matt Smith",26,1,10,9,null,null,null,null,{"$f":"SUM(C36:I36)","v":20},{"$f":"COUNT(C36:I36)","v":3},{"$f":"IF(K36=7,MIN(C36:I36),\"0\")","v":"0"},{"$f":"J36-L36","v":20}]
["Tim Lovell",212,null,null,20,null,null,null,null,{"$f":"SUM(C37:I37)","v":20},{"$f":"COUNT(C37:I37)","v":1},{"$f":"IF(K37=7,MIN(C37:I37),\"0\")","v":"0"},{"$f":"J37-L37","v":20}]
["Mal Grimes",273,null,null,1,null,null,17,1,{"$f":"SUM(C38:I38)","v":19},{"$f":"COUNT(C38:I38)","v":3},{"$f":"IF(K38=7,MIN(C38:I38),\"0\")","v":"0"},{"$f":"J38-L38","v":19}]
["Johnny Maher",138,null,null,1,8,9,null,null,{"$f":"SUM(C39:I39)","v":18},{"$f":"COUNT(C39:I39)","v":3},{"$f":"IF(K39=7,MIN(C39:I39),\"0\")","v":"0"},{"$f":"J39-L39","v":18}]
["Dylan Ferguson",112,null,null,null,null,null,1,16,{"$f":"SUM(C40:I40)","v":17},{"$f":"COUNT(C40:I40)","v":2},{"$f":"IF(K40=7,MIN(C40:I40),\"0\")","v":"0"},{"$f":"J40-L40","v":17}]
["Maree Reid",231,null,null,null,17,null,null,null,{"$f":"SUM(C41:I41)","v":17},{"$f":"COUNT(C41:I41)","v":1},{"$f":"IF(K41=7,MIN(C41:I41),\"0\")","v":"0"},{"$f":"J41-L41","v":17}]
["Melissa Wilkie",33,1,null,null,1,5,1,7,{"$f":"SUM(C42:I42)","v":15},{"$f":"COUNT(C42:I42)","v":5},{"$f":"IF(K42=7,MIN(C42:I42),\"0\")","v":"0"},{"$f":"J42-L42","v":15}]
["Craig Bradley",68,null,1,null,null,13,1,null,{"$f":"SUM(C43:I43)","v":15},{"$f":"COUNT(C43:I43)","v":3},{"$f":"IF(K43=7,MIN(C43:I43),\"0\")","v":"0"},{"$f":"J43-L43","v":15}]
["Carolyn Wiseman",272,null,null,1,1,null,1,10,{"$f":"SUM(C44:I44)","v":13},{"$f":"COUNT(C44:I44)","v":4},{"$f":"IF(K44=7,MIN(C44:I44),\"0\")","v":"0"},{"$f":"J44-L44","v":13}]
["Gabrielle Walsh",197,13,null,null,null,null,null,null,{"$f":"SUM(C45:I45)","v":13},{"$f":"COUNT(C45:I45)","v":1},{"$f":"IF(K45=7,MIN(C45:I45),\"0\")","v":"0"},{"$f":"J45-L45","v":13}]
["Brad Hinton",216,null,null,13,null,null,null,null,{"$f":"SUM(C46:I46)","v":13},{"$f":"COUNT(C46:I46)","v":1},{"$f":"IF(K46=7,MIN(C46:I46),\"0\")","v":"0"},{"$f":"J46-L46","v":13}]
["Kim Fairbairn-Baker",269,null,null,null,null,1,10,1,{"$f":"SUM(C47:I47)","v":12},{"$f":"COUNT(C47:I47)","v":3},{"$f":"IF(K47=7,MIN(C47:I47),\"0\")","v":"0"},{"$f":"J47-L47","v":12}]
["Lisa Richardson",267,null,null,1,1,null,8,null,{"$f":"SUM(C48:I48)","v":10},{"$f":"COUNT(C48:I48)","v":3},{"$f":"IF(K48=7,MIN(C48:I48),\"0\")","v":"0"},{"$f":"J48-L48","v":10}]
["Liam Frye",193,null,8,null,null,null,null,1,{"$f":"SUM(C49:I49)","v":9},{"$f":"COUNT(C49:I49)","v":2},{"$f":"IF(K49=7,MIN(C49:I49),\"0\")","v":"0"},{"$f":"J49-L49","v":9}]
["Sharyn Gibbs",134,1,null,2,4,null,1,null,{"$f":"SUM(C50:I50)","v":8},{"$f":"COUNT(C50:I50)","v":4},{"$f":"IF(K50=7,MIN(C50:I50),\"0\")","v":"0"},{"$f":"J50-L50","v":8}]
["Bronwyn Keating",107,null,null,null,null,1,6,null,{"$f":"SUM(C51:I51)","v":7},{"$f":"COUNT(C51:I51)","v":2},{"$f":"IF(K51=7,MIN(C51:I51),\"0\")","v":"0"},{"$f":"J51-L51","v":7}]
["Jason Smith",95,null,1,4,1,null,1,null,{"$f":"SUM(C52:I52)","v":7},{"$f":"COUNT(C52:I52)","v":4},{"$f":"IF(K52=7,MIN(C52:I52),\"0\")","v":"0"},{"$f":"J52-L52","v":7}]
["Jennifer Bradley",31,1,2,null,null,4,null,null,{"$f":"SUM(C53:I53)","v":7},{"$f":"COUNT(C53:I53)","v":3},{"$f":"IF(K53=7,MIN(C53:I53),\"0\")","v":"0"},{"$f":"J53-L53","v":7}]
["Ryan Twycross",209,null,5,1,null,null,null,null,{"$f":"SUM(C54:I54)","v":6},{"$f":"COUNT(C54:I54)","v":2},{"$f":"IF(K54=7,MIN(C54:I54),\"0\")","v":"0"},{"$f":"J54-L54","v":6}]
["Leanne McLeod",275,null,null,1,1,2,null,1,{"$f":"SUM(C55:I55)","v":5},{"$f":"COUNT(C55:I55)","v":4},{"$f":"IF(K55=7,MIN(C55:I55),\"0\")","v":"0"},{"$f":"J55-L55","v":5}]
["Helen Lees",195,null,null,null,null,null,4,null,{"$f":"SUM(C56:I56)","v":4},{"$f":"COUNT(C56:I56)","v":1},{"$f":"IF(K56=7,MIN(C56:I56),\"0\")","v":"0"},{"$f":"J56-L56","v":4}]
["Jenny Amor",170,null,null,1,3,null,null,null,{"$f":"SUM(C57:I57)","v":4},{"$f":"COUNT(C57:I57)","v":2},{"$f":"IF(K57=7,MIN(C57:I57),\"0\")","v":"0"},{"$f":"J57-L57","v":4}]
["Ali Watts",277,null,null,1,null,3,null,null,{"$f":"SUM(C58:I58)","v":4},{"$f":"COUNT(C58:I58)","v":2},{"$f":"IF(K58=7,MIN(C58:I58),\"0\")","v":"0"},{"$f":"J58-L58","v":4}]
["Ethan Lees",120,null,1,null,null,null,1,1,{"$f":"SUM(C59:I59)","v":3},{"$f":"COUNT(C59:I59)","v":3},{"$f":"IF(K59=7,MIN(C59:I59),\"0\")","v":"0"},{"$f":"J59-L59","v":3}]
["Liz Foster",67,1,null,null,1,null,null,null,{"$f":"SUM(C60:I60)","v":2},{"$f":"COUNT(C60:I60)","v":2},{"$f":"IF(K60=7,MIN(C60:I60),\"0\")","v":"0"},{"$f":"J60-L60","v":2}]
["Carol Sing",23,null,null,1,1,null,null,null,{"$f":"SUM(C61:I61)","v":2},{"$f":"COUNT(C61:I61)","v":2},{"$f":"IF(K61=7,MIN(C61:I61),\"0\")","v":"0"},{"$f":"J61-L61","v":2}]
["Kevin Perez",150,null,null,null,null,null,null,1,{"$f":"SUM(C62:I62)","v":1},{"$f":"COUNT(C62:I62)","v":1},{"$f":"IF(K62=7,MIN(C62:I62),\"0\")","v":"0"},{"$f":"J62-L62","v":1}]
["Donna MacCallum",29,null,null,null,null,null,null,1,{"$f":"SUM(C63:I63)","v":1},{"$f":"COUNT(C63:I63)","v":1},{"$f":"IF(K63=7,MIN(C63:I63),\"0\")","v":"0"},{"$f":"J63-L63","v":1}]
["Gavin Fiedler",1,null,null,null,null,null,null,1,{"$f":"SUM(C64:I64)","v":1},{"$f":"COUNT(C64:I64)","v":1},{"$f":"IF(K64=7,MIN(C64:I64),\"0\")","v":"0"},{"$f":"J64-L64","v":1}]
["Sam Watts",98,null,null,null,null,null,1,null,{"$f":"SUM(C65:I65)","v":1},{"$f":"COUNT(C65:I65)","v":1},{"$f":"IF(K65=7,MIN(C65:I65),\"0\")","v":"0"},{"$f":"J65-L65","v":1}]
["Sally Fleming",152,null,null,null,null,null,1,null,{"$f":"SUM(C66:I66)","v":1},{"$f":"COUNT(C66:I66)","v":1},{"$f":"IF(K66=7,MIN(C66:I66),\"0\")","v":"0"},{"$f":"J66-L66","v":1}]
["Josh Phegan",25,1,null,null,null,null,null,null,{"$f":"SUM(C67:I67)","v":1},{"$f":"COUNT(C67:I67)","v":1},{"$f":"IF(K67=7,MIN(C67:I67),\"0\")","v":"0"},{"$f":"J67-L67","v":1}]
["Brock Prime",59,1,null,null,null,null,null,null,{"$f":"SUM(C68:I68)","v":1},{"$f":"COUNT(C68:I68)","v":1},{"$f":"IF(K68=7,MIN(C68:I68),\"0\")","v":"0"},{"$f":"J68-L68","v":1}]
["Madelaine Barnett",53,1,null,null,null,null,null,null,{"$f":"SUM(C69:I69)","v":1},{"$f":"COUNT(C69:I69)","v":1},{"$f":"IF(K69=7,MIN(C69:I69),\"0\")","v":"0"},{"$f":"J69-L69","v":1}]
["Dale Cameron",142,1,null,null,null,null,null,null,{"$f":"SUM(C70:I70)","v":1},{"$f":"COUNT(C70:I70)","v":1},{"$f":"IF(K70=7,MIN(C70:I70),\"0\")","v":"0"},{"$f":"J70-L70","v":1}]
["Mark Nilon",55,1,null,null,null,null,null,null,{"$f":"SUM(C71:I71)","v":1},{"$f":"COUNT(C71:I71)","v":1},{"$f":"IF(K71=7,MIN(C71:I71),\"0\")","v":"0"},{"$f":"J71-L71","v":1}]
["Jake Twycross",207,null,1,null,null,null,null,null,{"$f":"SUM(C72:I72)","v":1},{"$f":"COUNT(C72:I72)","v":1},{"$f":"IF(K72=7,MIN(C72:I72),\"0\")","v":"0"},{"$f":"J72-L72","v":1}]
["Lisa Parkinson",82,null,1,null,null,null,null,null,{"$f":"SUM(C73:I73)","v":1},{"$f":"COUNT(C73:I73)","v":1},{"$f":"IF(K73=7,MIN(C73:I73),\"0\")","v":"0"},{"$f":"J73-L73","v":1}]
["Jarrod Brown",250,null,null,1,null,null,null,null,{"$f":"SUM(C74:I74)","v":1},{"$f":"COUNT(C74:I74)","v":1},{"$f":"IF(K74=7,MIN(C74:I74),\"0\")","v":"0"},{"$f":"J74-L74","v":1}]
["Fraser Walsh",79,null,null,1,null,null,null,null,{"$f":"SUM(C75:I75)","v":1},{"$f":"COUNT(C75:I75)","v":1},{"$f":"IF(K75=7,MIN(C75:I75),\"0\")","v":"0"},{"$f":"J75-L75","v":1}]
["Kristen Healy",35,null,null,1,null,null,null,null,{"$f":"SUM(C76:I76)","v":1},{"$f":"COUNT(C76:I76)","v":1},{"$f":"IF(K76=7,MIN(C76:I76),\"0\")","v":"0"},{"$f":"J76-L76","v":1}]
["Bethany Wolfe",61,null,null,null,1,null,null,null,{"$f":"SUM(C77:I77)","v":1},{"$f":"COUNT(C77:I77)","v":1},{"$f":"IF(K77=7,MIN(C77:I77),\"0\")","v":"0"},{"$f":"J77-L77","v":1}]
["Amelia Mitchell",230,null,null,null,null,1,null,null,{"$f":"SUM(C78:I78)","v":1},{"$f":"COUNT(C78:I78)","v":1},{"$f":"IF(K78=7,MIN(C78:I78),\"0\")","v":"0"},{"$f":"J78-L78","v":1}]
["Ashlee Fry",193,null,null,null,null,1,null,null,{"$f":"SUM(C79:I79)","v":1},{"$f":"COUNT(C79:I79)","v":1},{"$f":"IF(K79=7,MIN(C79:I79),\"0\")","v":"0"},{"$f":"J79-L79","v":1}]

{"sheet":"TempLC","index":2,"n_rows":61,"n_cols":6,"rows_kept":61,"cut":false,"hidden":false,"merged":[[4,0,4,4],[0,0,0,4],[1,0,1,4],[2,0,2,4],[3,0,3,4]]}
["Bendigo Triathlon Club"]
["Villawood Summer Series"]
["Long Course"]
[{"$f":"[1]Menu!B3","v":"2012-03-17"}]
["Handicap Results"]
[]
["Name","Bib No","Race Time","Handicap","Adjusted Time"]
["Nick Gillingham",156,"1:08:02.0",{"$f":"VLOOKUP(A8,'[1]Long Course Handicaps'!$C$2:$F$300,4,FALSE)","v":"00:24:36.825"},{"$f":"IF(ISERROR(D8),\"0\",C8+D8)","v":"01:32:38.825"},20]
["Jac Tremayne",52,"1:14:30.0",{"$f":"VLOOKUP(A9,'[1]Long Course Handicaps'!$C$2:$F$300,4,FALSE)","v":"00:21:57.987"},"01:36:27.987",19]
["Ben Fahy",238,"59:06.5",{"$f":"VLOOKUP(A10,'[1]Long Course Handicaps'!$C$2:$F$300,4,FALSE)","v":"00:38:34.420"},"01:37:40.920",18]
["Jayson Burhop",78,"1:04:31.1",{"$f":"VLOOKUP(A11,'[1]Long Course Handicaps'!$C$2:$F$300,4,FALSE)","v":"00:33:16.624"},"01:37:47.724",17]
["Nicholas Tripodi",117,"1:08:10.6",{"$f":"VLOOKUP(A12,'[1]Long Course Handicaps'!$C$2:$F$300,4,FALSE)","v":"00:29:39.586"},"01:37:50.186",16]
["Todd Foster",66,"1:09:23.4",{"$f":"VLOOKUP(A13,'[1]Long Course Handicaps'!$C$2:$F$300,4,FALSE)","v":"00:28:26.836"},"01:37:50.236",15]
["Brad Hinton",216,"1:10:02.7",{"$f":"VLOOKUP(A14,'[1]Long Course Handicaps'!$C$2:$F$300,4,FALSE)","v":"00:27:51.431"},"01:37:54.131",14]
["Kim Townrow",127,"1:10:05.3",{"$f":"VLOOKUP(A15,'[1]Long Course Handicaps'!$C$2:$F$300,4,FALSE)","v":"00:27:49.613"},"01:37:54.913",13]
["Russell Weekley",290,"59:24.9",{"$f":"VLOOKUP(A16,'[1]Long Course Handicaps'!$C$2:$F$300,4,FALSE)","v":"00:38:32.116"},"01:37:57.016",12]
["Georgina Lanyon",241,"1:09:53.0",{"$f":"VLOOKUP(A17,'[1]Long Course Handicaps'!$C$2:$F$300,4,FALSE)","v":"00:28:18.227"},"01:38:11.227",11]
["Tony Vlaeminck",99,"1:03:56.7",{"$f":"VLOOKUP(A18,'[1]Long Course Handicaps'!$C$2:$F$300,4,FALSE)","v":"00:34:23.675"},"01:38:20.375",10]
["Russell Tremayne",45,"1:05:51.5",{"$f":"VLOOKUP(A19,'[1]Long Course Handicaps'!$C$2:$F$300,4,FALSE)","v":"00:32:36.732"},"01:38:28.232",9]
["Reagan Stroud",259,"1:02:01.1",{"$f":"VLOOKUP(A20,'[1]Long Course Handicaps'!$C$2:$F$300,4,FALSE)","v":"00:36:31.472"},"01:38:32.572",8]
["Tim Lovell",212,"1:12:49.6",{"$f":"VLOOKUP(A21,'[1]Long Course Handicaps'!$C$2:$F$300,4,FALSE)","v":"00:25:54.789"},"01:38:44.389",7]
["Megan Goode",157,"1:15:44.6",{"$f":"VLOOKUP(A22,'[1]Long Course Handicaps'!$C$2:$F$300,4,FALSE)","v":"00:23:04.069"},"01:38:48.669",6]
["Bronwyn Morris",47,"1:13:25.1",{"$f":"VLOOKUP(A23,'[1]Long Course Handicaps'!$C$2:$F$300,4,FALSE)","v":"00:25:23.749"},"01:38:48.849",5]
["Jarrod Epps",51,"1:01:13.8",{"$f":"VLOOKUP(A24,'[1]Long Course Handicaps'!$C$2:$F$300,4,FALSE)","v":"00:37:41.434"},"01:38:55.234",4]
["Ian Frost",240,"1:07:21.8",{"$f":"VLOOKUP(A25,'[1]Long Course Handicaps'!$C$2:$F$300,4,FALSE)","v":"00:31:33.925"},"01:38:55.725",3]
["Michael Hogan",204,"1:13:55.3",{"$f":"VLOOKUP(A26,'[1]Long Course Handicaps'!$C$2:$F$300,4,FALSE)","v":"00:25:13.200"},"01:39:08.500",2]
["Jarrod Brown",250,"1:13:18.7",{"$f":"VLOOKUP(A27,'[1]Long Course Handicaps'!$C$2:$F$300,4,FALSE)","v":"00:25:50.302"},"01:39:09.002",1]
["Geoffrey Graham",56,"1:12:03.9",{"$f":"VLOOKUP(A28,'[1]Long Course Handicaps'!$C$2:$F$300,4,FALSE)","v":"00:27:25.969"},"01:39:29.869",1]
["Evan Barr",126,"1:04:58.5",{"$f":"VLOOKUP(A29,'[1]Long Course Handicaps'!$C$2:$F$300,4,FALSE)","v":"00:34:45.136"},"01:39:43.636",1]
["Fraser Walsh",79,"1:00:00.5",{"$f":"VLOOKUP(A30,'[1]Long Course Handicaps'!$C$2:$F$300,4,FALSE)","v":"00:39:46.079"},"01:39:46.579",1]
["Scott Alterator",405,"1:06:28.4",{"$f":"VLOOKUP(A31,'[1]Long Course Handicaps'!$C$2:$F$300,4,FALSE)","v":"00:33:25.475"},"01:39:53.875",1]
["Steve Monigatti",184,"1:09:48.6",{"$f":"VLOOKUP(A32,'[1]Long Course Handicaps'!$C$2:$F$300,4,FALSE)","v":"00:30:10.505"},"01:39:59.105",1]
["Alison Cartner",14,"1:14:20.8",{"$f":"VLOOKUP(A33,'[1]Long Course Handicaps'!$C$2:$F$300,4,FALSE)","v":"00:25:46.544"},"01:40:07.344",1]
["Andrew Wilkie",32,"1:10:31.7",{"$f":"VLOOKUP(A34,'[1]Long Course Handicaps'!$C$2:$F$300,4,FALSE)","v":"00:29:40.920"},"01:40:12.620",1]
["Andrew Meyers",101,"1:14:07.0",{"$f":"VLOOKUP(A35,'[1]Long Course Handicaps'!$C$2:$F$300,4,FALSE)","v":"00:26:16.250"},"01:40:23.250",1]
["Anthony Mellors",75,"1:07:03.9",{"$f":"VLOOKUP(A36,'[1]Long Course Handicaps'!$C$2:$F$300,4,FALSE)","v":"00:33:21.837"},"01:40:25.737",1]
["Matt Smith",26,"1:11:59.4",{"$f":"VLOOKUP(A37,'[1]Long Course Handicaps'!$C$2:$F$300,4,FALSE)","v":"00:28:46.479"},"01:40:45.879",1]
["Liz Foster",67,"1:15:37.4",{"$f":"VLOOKUP(A38,'[1]Long Course Handicaps'!$C$2:$F$300,4,FALSE)","v":"00:25:32.236"},"01:41:09.636",1]
["Therese Martin",16,"1:14:47.8",{"$f":"VLOOKUP(A39,'[1]Long Course Handicaps'!$C$2:$F$300,4,FALSE)","v":"00:26:33.225"},"01:41:21.025",1]
["Mark Lees",196,"1:14:53.5",{"$f":"VLOOKUP(A40,'[1]Long Course Handicaps'!$C$2:$F$300,4,FALSE)","v":"00:26:41.712"},"01:41:35.212",1]
["Kristen Healy",35,"1:30:09.4",{"$f":"VLOOKUP(A41,'[1]Long Course Handicaps'!$C$2:$F$300,4,FALSE)","v":"00:12:24.596"},"01:42:33.996",1]
["Damian Hughes",245,"1:13:26.4",{"$f":"VLOOKUP(A42,'[1]Long Course Handicaps'!$C$2:$F$300,4,FALSE)","v":"00:29:32.917"},"01:42:59.317",1]
["Jason Hawke",173,"1:19:22.6",{"$f":"VLOOKUP(A43,'[1]Long Course Handicaps'!$C$2:$F$300,4,FALSE)","v":"00:23:46.870"},"01:43:09.470",1]
["Andrew Mason",249,"1:06:44.9",{"$f":"VLOOKUP(A44,'[1]Long Course Handicaps'!$C$2:$F$300,4,FALSE)","v":"00:36:28.077"},"01:43:12.978",1]
["Nick Walsh",15,"1:13:51.0",{"$f":"VLOOKUP(A45,'[1]Long Course Handicaps'!$C$2:$F$300,4,FALSE)","v":"00:30:40.575"},"01:44:31.575",1]
["Katrina Griffiths",121,"1:26:29.6",{"$f":"VLOOKUP(A46,'[1]Long Course Handicaps'!$C$2:$F$300,4,FALSE)","v":"00:19:07.631"},"01:45:37.231",1]
["Josh Ketterer",294,"1:07:32.1",{"$f":"VLOOKUP(A47,'[1]Long Course Handicaps'!$C$2:$F$300,4,FALSE)","v":"00:38:20.112"},"01:45:52.212",1]
["Ian Gilmore",114,"1:16:16.1",{"$f":"VLOOKUP(A48,'[1]Long Course Handicaps'!$C$2:$F$300,4,FALSE)","v":"00:29:36.312"},"01:45:52.412",1]
["David Griffiths",119,"1:26:28.7",{"$f":"VLOOKUP(A49,'[1]Long Course Handicaps'!$C$2:$F$300,4,FALSE)","v":"00:19:24"},"01:45:52.700",1]
["Simone Byrne",113,"1:50:00.5",{"$f":"VLOOKUP(A50,'[1]Long Course Handicaps'!$C$2:$F$300,4,FALSE)","v":"00:03:45"},"01:53:45.500",1]
["Team Draper",234,"1:04:31.8",{"$f":"VLOOKUP(A51,'[1]Long Course Handicaps'!$C$2:$F$300,4,FALSE)","v":{"$error":"#N/A"}},"0"]
["Ben Toy",407,"1:11:49.2",{"$f":"VLOOKUP(A52,'[1]Long Course Handicaps'!$C$2:$F$300,4,FALSE)","v":{"$error":"#N/A"}},"0"]
["Chris Lacy",406,"1:14:31.7",{"$f":"VLOOKUP(A53,'[1]Long Course Handicaps'!$C$2:$F$300,4,FALSE)","v":{"$error":"#N/A"}},"0"]
["Alex Basilewsky",403,"1:16:06.2",{"$f":"VLOOKUP(A54,'[1]Long Course Handicaps'!$C$2:$F$300,4,FALSE)","v":{"$error":"#N/A"}},"0"]
["Gary Schurr",408,"1:16:28.2",{"$f":"VLOOKUP(A55,'[1]Long Course Handicaps'!$C$2:$F$300,4,FALSE)","v":{"$error":"#N/A"}},"0"]
["Jason Smith",95,"1:27:18.0",{"$f":"VLOOKUP(A56,'[1]Long Course Handicaps'!$C$2:$F$300,4,FALSE)","v":{"$error":"#N/A"}},"0"]
["Kelly Wickham",402,"1:31:02.4",{"$f":"VLOOKUP(A57,'[1]Long Course Handicaps'!$C$2:$F$300,4,FALSE)","v":{"$error":"#N/A"}},"0"]
["Kathleen Murphy",404,"1:31:03.8",{"$f":"VLOOKUP(A58,'[1]Long Course Handicaps'!$C$2:$F$300,4,FALSE)","v":{"$error":"#N/A"}},"0"]
["Stacey Chilver",401,"1:33:48.6",{"$f":"VLOOKUP(A59,'[1]Long Course Handicaps'!$C$2:$F$300,4,FALSE)","v":{"$error":"#N/A"}},"0"]
["David Hatswell",43,""]
["Eamon Smith",211,"1:09:36.9"]

{"sheet":"TempSC","index":3,"n_rows":54,"n_cols":6,"rows_kept":54,"cut":false,"hidden":false,"merged":[[4,0,4,4],[0,0,0,4],[1,0,1,4],[2,0,2,4],[3,0,3,4]]}
["Bendigo Triathlon Club"]
["Villawood Summer Series"]
["Short Course"]
[{"$f":"[1]Menu!B3","v":"2012-03-17"}]
["Handicap Results"]
[]
["Name","Bib No","Race Time","Handicap","Adjusted Time"]
["Madelaine Hawke",174,"37:46.9",{"$f":"VLOOKUP(A8,'[1]Short Course Handicaps'!$C$2:$F$300,4,FALSE)","v":"00:04:30.145"},{"$f":"IF(ISERROR(D8),\"0\",C8+D8)","v":"00:42:17.045"},20]
["Holly Hawke",175,"31:58.4",{"$f":"VLOOKUP(A9,'[1]Short Course Handicaps'!$C$2:$F$300,4,FALSE)","v":"00:10:37.387"},"00:42:35.787",19]
["Chris Chiappazzo",123,"30:00.5",{"$f":"VLOOKUP(A10,'[1]Short Course Handicaps'!$C$2:$F$300,4,FALSE)","v":"00:13:59.632"},"00:44:00.132",18]
["David Heislers",261,"35:41.2",{"$f":"VLOOKUP(A11,'[1]Short Course Handicaps'!$C$2:$F$300,4,FALSE)","v":"00:08:21.102"},"00:44:02.302",17]
["Dylan Ferguson",112,"29:29.4",{"$f":"VLOOKUP(A12,'[1]Short Course Handicaps'!$C$2:$F$300,4,FALSE)","v":"00:14:35.910"},"00:44:05.310",16]
["Nathan Green",239,"30:47.4",{"$f":"VLOOKUP(A13,'[1]Short Course Handicaps'!$C$2:$F$300,4,FALSE)","v":"00:13:18.407"},"00:44:05.807",15]
["Samantha Borserio",191,"32:54.7",{"$f":"VLOOKUP(A14,'[1]Short Course Handicaps'!$C$2:$F$300,4,FALSE)","v":"00:11:11.337"},"00:44:06.037",14]
["Greg Payne",17,"30:54.1",{"$f":"VLOOKUP(A15,'[1]Short Course Handicaps'!$C$2:$F$300,4,FALSE)","v":"00:13:23.839"},"00:44:17.939",13]
["Matthew Heislers",260,"30:01.3",{"$f":"VLOOKUP(A16,'[1]Short Course Handicaps'!$C$2:$F$300,4,FALSE)","v":"00:14:26.695"},"00:44:27.995",12]
["Chris Richardson",296,"34:22.1",{"$f":"VLOOKUP(A17,'[1]Short Course Handicaps'!$C$2:$F$300,4,FALSE)","v":"00:10:14.107"},"00:44:36.207",11]
["Carolyn Wiseman",272,"37:51.0",{"$f":"VLOOKUP(A18,'[1]Short Course Handicaps'!$C$2:$F$300,4,FALSE)","v":"00:07:00.786"},"00:44:51.786",10]
["Nicholas Cherry",257,"30:07.0",{"$f":"VLOOKUP(A19,'[1]Short Course Handicaps'!$C$2:$F$300,4,FALSE)","v":"00:14:51.915"},"00:44:58.915",9]
["Laura Terry",131,"36:07.1",{"$f":"VLOOKUP(A20,'[1]Short Course Handicaps'!$C$2:$F$300,4,FALSE)","v":"00:08:53.888"},"00:45:00.988",8]
["Melissa Wilkie",33,"35:28.4",{"$f":"VLOOKUP(A21,'[1]Short Course Handicaps'!$C$2:$F$300,4,FALSE)","v":"00:09:40.545"},"00:45:08.945",7]
["Chris Gray",268,"32:30.8",{"$f":"VLOOKUP(A22,'[1]Short Course Handicaps'!$C$2:$F$300,4,FALSE)","v":"00:12:44.263"},"00:45:15.063",6]
["Sharon Baker",149,"31:11.6",{"$f":"VLOOKUP(A23,'[1]Short Course Handicaps'!$C$2:$F$300,4,FALSE)","v":"00:14:05.840"},"00:45:17.440",5]
["Riley Walsh",263,"36:25.5",{"$f":"VLOOKUP(A24,'[1]Short Course Handicaps'!$C$2:$F$300,4,FALSE)","v":"00:08:52.336"},"00:45:17.836",4]
["Damien Bilsborow",54,"29:44.0",{"$f":"VLOOKUP(A25,'[1]Short Course Handicaps'!$C$2:$F$300,4,FALSE)","v":"00:15:34.789"},"00:45:18.789",3]
["Lucas Casey",160,"30:30.0",{"$f":"VLOOKUP(A26,'[1]Short Course Handicaps'!$C$2:$F$300,4,FALSE)","v":"00:14:48.908"},"00:45:18.908",2]
["Adrian Ryan",57,"32:35.3",{"$f":"VLOOKUP(A27,'[1]Short Course Handicaps'!$C$2:$F$300,4,FALSE)","v":"00:13:06.670"},"00:45:41.970",1]
["Kyle Gellatly",264,"34:10.6",{"$f":"VLOOKUP(A28,'[1]Short Course Handicaps'!$C$2:$F$300,4,FALSE)","v":"00:11:35.005"},"00:45:45.605",1]
["Lachlan Cherry",258,"34:17.5",{"$f":"VLOOKUP(A29,'[1]Short Course Handicaps'!$C$2:$F$300,4,FALSE)","v":"00:11:39.467"},"00:45:56.967",1]
["Kim Fairbairn-Baker",269,"34:34.9",{"$f":"VLOOKUP(A30,'[1]Short Course Handicaps'!$C$2:$F$300,4,FALSE)","v":"00:11:24.529"},"00:45:59.429",1]
["Leanne McLeod",275,"40:57.6",{"$f":"VLOOKUP(A31,'[1]Short Course Handicaps'!$C$2:$F$300,4,FALSE)","v":"00:05:34.165"},"00:46:31.765",1]
["Ethan Lees",120,"37:11.7",{"$f":"VLOOKUP(A32,'[1]Short Course Handicaps'!$C$2:$F$300,4,FALSE)","v":"00:09:30.554"},"00:46:42.254",1]
["Alexander Evans",136,"33:11.1",{"$f":"VLOOKUP(A33,'[1]Short Course Handicaps'!$C$2:$F$300,4,FALSE)","v":"00:13:40.426"},"00:46:51.526",1]
["Liam Frye",58,"29:28.5",{"$f":"VLOOKUP(A34,'[1]Short Course Handicaps'!$C$2:$F$300,4,FALSE)","v":"00:17:49.328"},"00:47:17.828",1]
["Adam Graham",280,"39:11.4",{"$f":"VLOOKUP(A35,'[1]Short Course Handicaps'!$C$2:$F$300,4,FALSE)","v":"00:08:27.019"},"00:47:38.419",1]
["Mal Grimes",273,"37:14.7",{"$f":"VLOOKUP(A36,'[1]Short Course Handicaps'!$C$2:$F$300,4,FALSE)","v":"00:11:01.540"},"00:48:16.240",1]
["Kevin Perez",150,"36:20.7",{"$f":"VLOOKUP(A37,'[1]Short Course Handicaps'!$C$2:$F$300,4,FALSE)","v":"00:12:06.530"},"00:48:27.230",1]
["Justin Weeks",420,"29:30.0",{"$f":"VLOOKUP(A38,'[1]Short Course Handicaps'!$C$2:$F$300,4,FALSE)","v":{"$error":"#N/A"}},"0"]
["Shane Verbeek",424,"30:31.5",{"$f":"VLOOKUP(A39,'[1]Short Course Handicaps'!$C$2:$F$300,4,FALSE)","v":{"$error":"#N/A"}},"0"]
["Donna MacCallum",29,"32:07.3",{"$f":"VLOOKUP(A40,'[1]Short Course Handicaps'!$C$2:$F$300,4,FALSE)","v":{"$error":"#N/A"}},"0",1]
["Adele Garwod",425,"32:27.0",{"$f":"VLOOKUP(A41,'[1]Short Course Handicaps'!$C$2:$F$300,4,FALSE)","v":{"$error":"#N/A"}},"0"]
["Shaine Key",417,"33:02.5",{"$f":"VLOOKUP(A42,'[1]Short Course Handicaps'!$C$2:$F$300,4,FALSE)","v":{"$error":"#N/A"}},"0"]
["Ebony Whiley",428,"34:41.7",{"$f":"VLOOKUP(A43,'[1]Short Course Handicaps'!$C$2:$F$300,4,FALSE)","v":{"$error":"#N/A"}},"0"]
["Max Vlaeminck",423,"34:58.8",{"$f":"VLOOKUP(A44,'[1]Short Course Handicaps'!$C$2:$F$300,4,FALSE)","v":{"$error":"#N/A"}},"0"]
["Mitchell Keuken",427,"35:08.0",{"$f":"VLOOKUP(A45,'[1]Short Course Handicaps'!$C$2:$F$300,4,FALSE)","v":{"$error":"#N/A"}},"0"]
["Laura Reynolds",426,"35:38.5",{"$f":"VLOOKUP(A46,'[1]Short Course Handicaps'!$C$2:$F$300,4,FALSE)","v":{"$error":"#N/A"}},"0"]
["Karl Shay",422,"36:15.2",{"$f":"VLOOKUP(A47,'[1]Short Course Handicaps'!$C$2:$F$300,4,FALSE)","v":{"$error":"#N/A"}},"0"]
["Gavin Fiedler",1,"36:41.1",{"$f":"VLOOKUP(A48,'[1]Short Course Handicaps'!$C$2:$F$300,4,FALSE)","v":{"$error":"#N/A"}},"0",1]
["Adam Brandt",419,"38:06.6",{"$f":"VLOOKUP(A49,'[1]Short Course Handicaps'!$C$2:$F$300,4,FALSE)","v":{"$error":"#N/A"}},"0"]
["Penny Wall",429,"40:51.8",{"$f":"VLOOKUP(A50,'[1]Short Course Handicaps'!$C$2:$F$300,4,FALSE)","v":{"$error":"#N/A"}},"0"]
["Kieran Murphy",421,"45:28.3",{"$f":"VLOOKUP(A51,'[1]Short Course Handicaps'!$C$2:$F$300,4,FALSE)","v":{"$error":"#N/A"}},"0"]
["Jeska Rees",418,"45:47.9",{"$f":"VLOOKUP(A52,'[1]Short Course Handicaps'!$C$2:$F$300,4,FALSE)","v":{"$error":"#N/A"}},"0"]
[]
[null,null,null,null,null,{"$f":"COUNT(F8:F52)","v":32}]